BEGIN:VCALENDAR
VERSION:2.0
PRODID:Events Booking
BEGIN:VEVENT
UID:69e771093cc99
SUMMARY:Venkovní pochůzka v oboře Lány
DESCRIPTION:Obory v historii měly\, a i dnes mají\, specifické postaven
 í v lesním hospodářství. Přestože jsou převážně vnímány pouze
  jako účelová zařízení určená k chovu zvěře\, je nutné si uvěd
 omit\, že se jedná o objekty\, kde se kromě myslivosti a základních l
 esnických disciplín prolínají i znalosti odborníků na krajinotvorbu 
 a estetiku. Právě původní historické obory je třeba vnímat jako kra
 jinu se silným odkazem našich předků\, která stojí na přechodu mezi
  lesem a parkem.
 Území Lánské obory bylo k lovu využíváno již p
 řed téměř tisíci lety prvními Přemyslovci. I v současnosti\, pod k
 uratelou Kanceláře prezidenta republiky\, slouží k reprezentaci Česk
 ého státu a má tak odlišné postavení mezi českými oborami.
 Cíle
 m pochůzky je seznámení exkurze s problematikou obhospodařování lesa
  v podmínkách Lánské obory\, se zaměřením na pěstování a ochranu
  lesa.
LOCATION:Lány\, Česká republika
DTSTART:20160608T070000Z
DTEND:20160608T130000Z
DTSTAMP:20260421T144353Z
ORGANIZER;CN=ČESLES:MAILTO:tajemnik@cesles.cz
GEO:50.124711;13.950419
X-APPLE-STRUCTURED-LOCATION;VALUE=URI;X-ADDRESS=Lány\, Česká republika;X
 -APPLE-RADIUS=72;X-TITLE=Obora Lány:50.124711;13.950419
END:VEVENT
END:VCALENDAR