BEGIN:VCALENDAR
VERSION:2.0
PRODID:Events Booking
BEGIN:VEVENT
UID:69e7737053473
SUMMARY:Pěstování lesů v imisní oblasti Trutnovska u příležitosti 1
 00 let od narození Jaromíra Nehyby
DESCRIPTION:Podstatnou část své lesnické práce a života Jaromír Nehy
 ba zasvětil pěstování imisemi ohrožených lesů na Trutnovsku. Intenz
 ivně pracoval na vládním úkolu vyhlášeném v roce 1964 pro imisemi p
 ostiženou oblast Jestřebích hor. V úzké součinnosti s VÚLHM Opočno
  a Lesprojektem Hradec Králové byl i spolutvůrcem demonstračního obje
 ktu pro hospodaření v lesích postižených imisemi. Jednalo se zejména
  o 4 lokality vyčleněné v r. 1964 pro intenzivní nápravná opatření
  v rámci tzv. realizačního úkolu MZe\, a to Žaltman\, Bezděkov\, Po
 říčský hřbet a Rokytnická závora. Byly to vesměs nejvíce imisemi 
 zasažené lesní porosty (pásma ohrožení imisemi A a B) v krajině Tru
 tnovska. Velký demonstrační objekt pak byl vyhlášen v roce 1972 na pl
 oše 2 680 ha na hronovské části a 900 ha na broumovské části LZ. V 
 rámci těchto demonstračních objektů\, o jejichž zřízení se podsta
 tnou měrou zasloužil\, byly sledovány kontrolní provozní plochy\, vý
 zkumné plochy VÚLHM VS Opočno i další jeho zkusné plochy. V těchto 
 demonstračních objektech bylo vyhodnocováno 16 druhů dřevin a 24 prov
 eniencí smrku ztepilého. V celoživotní práci Jaromíra Nehyby na LZ H
 ronov a LZ Broumov se vzájemně prolíná bohatá pěstitelská a výzkum
 ná praxe s taxací. Po odchodu do důchodu se též aktivně věnoval och
 raně přírody pomocí návrhů přírodě blízkých způsobů obhospoda
 řování lesních porostů\, to zejména v PR Dubno a NPP Babiččino úd
 olí. Důležitou součásti jeho života byla i myslivost\, a zejména st
 udium srnčí zvěře. Jedná se tedy o významnou lesnickou i ochranářs
 kou osobnost druhé poloviny 20. století.
  
  
LOCATION:Lesnická 9\, 541 11 Trutnov
DTSTART:20220524T070000Z
DTEND:20220524T123000Z
DTSTAMP:20260421T145408Z
ORGANIZER;CN=ČESLES:MAILTO:tajemnik@cesles.cz
GEO:50.558568;15.911954
X-APPLE-STRUCTURED-LOCATION;VALUE=URI;X-ADDRESS=Lesnická 9\, 541 11 Trutno
 v;X-APPLE-RADIUS=72;X-TITLE=ČLA Trutnov:50.558568;15.911954
END:VEVENT
END:VCALENDAR