BEGIN:VCALENDAR
VERSION:2.0
PRODID:Events Booking
BEGIN:VEVENT
UID:69e6a96fc4c9a
SUMMARY:Strukturně bohaté porosty – lesy pro budoucí generace?
DESCRIPTION:V současné době již na mnoha místech střední Evropy doch
 ází k postupné transformaci lesního hospodářství směrem k vytvoře
 ní lesních porostů odolných klimatické změně\, nicméně také odpo
 vídajících standardům\, které po správcích lesa vyžaduje společno
 st. Vyšší rezistence a adaptabilita lesních porostů je dnes často sp
 ojována s jejich strukturní diferenciací\, a to s ohledem na jejich hor
 izontální\, vertikální a celkovou diverzitu. Pomyslný vzor pak pro ta
 kové lesní porosty hledáme v podobě výběrných porostů\, nicméně 
 v rámci vyšší variability použitých dřevin. Důležitou roli smíš
 ených porostů\, oproti monokulturám\, také hraje vyšší produkční 
 potenciál a sekvestrace uhlíku v kontextu mitigace klimatické změny. O
 dborná konference představí nejnovější trendy z oblasti výzkumu\, a
 le také příklady dobré praxe v hospodaření s bohatými porosty. Sou
 částí odborné akce bude také venkovní exkurze s praktickými ukázka
 mi.
 Na semináři budou prezentovány výsledky projektu TAČR: Bohatě 
 strukturované smíšené porosty jako klíčová forma adaptace lesního 
 hospodářství na probíhající změny klimatu (TQ03000107).
LOCATION:Lhotecká 183/95
DTSTART:20250915T070000Z
DTEND:20250916T113000Z
DTSTAMP:20260421T003215Z
ORGANIZER;CN=ČESLES:MAILTO:tajemnik@cesles.cz
GEO:50.203803;15.894389
X-APPLE-STRUCTURED-LOCATION;VALUE=URI;X-ADDRESS=Lhotecká 183/95;X-APPLE-RA
 DIUS=72;X-TITLE=Kemp Stříbrný Rybník:50.203803;15.894389
END:VEVENT
END:VCALENDAR