BEGIN:VCALENDAR
VERSION:2.0
PRODID:Events Booking
BEGIN:VEVENT
UID:69e6a9e1bbff5
SUMMARY:Management vysokohorských smrčin a jejich ochrany z pohledu využ
 ití území pro mimoprodukční funkce lesa
DESCRIPTION:Problematika zadržení srážkové vody z přílivových deš
 ťů v porostech zasažených kůrovcovou kalamitou v bezzásahových úze
 mích. Jedná se o vztah mezi nízkou retencí lesních porostů a jímac
 í schopností bezzásahových řečišť toků v dlouhých dolinách Vyso
 kých Tater s následnými škodami na turistických chodnících\, lesní
 ch cestách a ostatních stavbách lesní infrastruktury\, která pak hroz
 í erozními sesuvy\, kdy již dochází k velkému ohrožení turistické
 ho ruchu. Dále pak problematika předčasné obnovy lesních porostů v z
 óně národního parku\, včasná výchova lesných porostů za účelem 
 zvýšení biodiverzity a statické stability.
LOCATION:Tatranská Lomnica 64
DTSTART:20250626T170000Z
DTEND:20250629T073000Z
DTSTAMP:20260421T003409Z
ORGANIZER;CN=ČESLES:MAILTO:tajemnik@cesles.cz
GEO:49.166496;20.284456
X-APPLE-STRUCTURED-LOCATION;VALUE=URI;X-ADDRESS=Tatranská Lomnica 64;X-APP
 LE-RADIUS=72;X-TITLE=Správa TANAPu\, Tatranská Lomnica:49.166496;20.2844
 56
END:VEVENT
END:VCALENDAR