BEGIN:VCALENDAR
VERSION:2.0
PRODID:Events Booking
BEGIN:VEVENT
UID:69e6a50e90d82
SUMMARY:Hospodaření Arcibiskupských lesů a statků Olomouc v oblasti Ry
 chlebských hor
DESCRIPTION:Lesní porosty v oblasti Rychlebských hor tvoří významnou 
 část majetku Arcibiskupství olomouckého ve správě ALSOL\, s. r. o. 
 Současně je toto pohoří v sousedství Hrubého Jeseníku velmi pestré
 \, a to po stránce geologické\, geomorfologické i vegetační. Výrazn
 á je také vertikální stupňovitost\, v rámci navštíveného polesí 
 Vápenná tak navštívíme jak porosty se zastoupením dubu v nejnižší
 ch polohách okolo 350 m n.m.\, reliktní bory\, tak i souvislé porosty b
 uku v optimu na vápencích a smrkové porosty v nejvyšších polohách o
 kolo 1100 m n.m. Pochůzka má za cíl přiblížit účastníkům způsob
  hospodaření vlastníka po restituci majetku\, problematiku obnovy\, och
 rany lesa\, škod zvěří a myslivosti a v neposlední řadě ukázat i t
 uristický a krajinářský potenciál této zajímavé oblasti.
LOCATION:Vápenná 300
DTSTART:20250513T064500Z
DTEND:20250513T121000Z
DTSTAMP:20260421T001334Z
ORGANIZER;CN=ČESLES:MAILTO:tajemnik@cesles.cz
GEO:50.288015;17.092277
X-APPLE-STRUCTURED-LOCATION;VALUE=URI;X-ADDRESS=Vápenná 300;X-APPLE-RADIU
 S=72;X-TITLE=pila Vápenná:50.288015;17.092277
END:VEVENT
END:VCALENDAR