BEGIN:VCALENDAR
VERSION:2.0
PRODID:Events Booking
BEGIN:VEVENT
UID:69e770f04bf21
SUMMARY:Přípravné a pomocné dřeviny – šance pro obnovu lesů po kal
 amitách
DESCRIPTION:Děkujeme za Váš zájem. Kapacita akce i přes dodatečné na
 výšení zcela vyčerpána. Proto se organizátoři rozhodli akci zopakov
 at za stejných podmínek a kvality ještě v pátek 26.5. Toto rozšíř
 ení již není možno podpořit ze strany SZIF\, proto obsáhlý sborník
  bude k dispozici pouze elektronicky a doprava na místo venkovní pochů
 zky bude provedena osobními auty. V případě zájmu se prosím hlaste 
 přímo zde. Těšíme se na setkání a diskuzi.
  
 Nepřehlédnuteln
 ým projevem změny klimatu je chřadnutí smrkových porostů a jejich ka
 tastrofický rozpad\, který probíhá na severní Moravě\, ale i v přil
 ehlých oblastech Polska a Slovenska. Do popředí se dostává problemati
 ka smysluplné obnovy rozsáhlých holin po vytěžených smrkových poros
 tech a využití přípravných dřevin při obnově kalamitních holin. U
  velké části lesnické veřejnosti dosud setrvává negativní postoj k
  přípravným dřevinám jako k dřevinám „nežádoucím“ nebo „š
 kodícím“. Tato situace je rovněž uměle udržována platnou (snad ji
 ž brzy a vhodně novelizovanou) legislativou\, která zcela ignoruje př
 íznivé funkce těchto dřevin v ekosystémech vznikajících na holinác
 h a neodráží ani možné ekonomické přínosy přípravných dřevin. 
 Moderní lesnictví ve střední Evropě má jasný cíl – zajistit trva
 le udržitelné plnění všech funkcí lesů prostřednictvím bohatě st
 rukturovaných s maximálním využitím přirozených procesů. 
 Práv
 ě takové porosty již v první generaci na velkých kalamitních holiná
 ch pomohou zajistit přípravné porosty ze spontánně nalétnutých př
 ípravných dřevin\, jako jsou BR\, JR\, OS\, OL\, OLS\, ale i MD a BO. J
 ejich funkce zdaleka nemusí končit přípravou prostředí pro nálet ne
 bo umělou obnovu „cílových“\, většinou stinných dřevin\, včetn
 ě smrku! Jejich působení by naopak mělo pokračovat s cílem zejména 
 dosahování co nejpestřejší struktury porostů\, protože právě ta m
 ůže zajistit vyšší bezpečí produkce ve změněných podmínkách a 
 také vyšší ekonomický přínos pro vlastníky lesů.
  
LOCATION:Zlaté Hory 828\, 793 76 Zlaté Hory\, Czechia
DTSTART:20170512T060000Z
DTEND:20170512T140000Z
DTSTAMP:20260421T144328Z
ORGANIZER;CN=ČESLES:MAILTO:tajemnik@cesles.cz
GEO:50.246217;17.391261
X-APPLE-STRUCTURED-LOCATION;VALUE=URI;X-ADDRESS=Zlaté Hory 828\, 793 76 Zl
 até Hory\, Czechia;X-APPLE-RADIUS=72;X-TITLE=Resort Ski Příčná\, Zlat
 é Hory:50.246217;17.391261
END:VEVENT
END:VCALENDAR