BEGIN:VCALENDAR
VERSION:2.0
PRODID:Events Booking
BEGIN:VEVENT
UID:69e771091b50f
SUMMARY:Převod na les výběrný s vyšším podílem jedle
DESCRIPTION:Venkovní pochůzka na lesním majetku města Volary bude zamě
 řena na praktické ukázky přírodě blízkého hospodaření s podporou
  jedle bělokoré (Abies alba Mill.) v horských polohách lesní oblasti 
 Šumava. Městské lesy Volary s.r.o. hospodaří na lesním majetku měst
 a od roku 1992\, a to formou podrostního způsobu hospodaření. V posled
 ních letech se vydaly cestou převodu lesa věkových tříd na les výb
 ěrný\, tento způsob již je zakotven v současně platném lesním hosp
 odářském plánu. Výměra volarských lesů je 3330 ha\, z toho čtvrti
 na leží na území Národního parku Šumava.
LOCATION:V Kasárnách 645
DTSTART:20200909T070000Z
DTEND:20200909T121500Z
DTSTAMP:20260421T144353Z
ORGANIZER;CN=ČESLES:MAILTO:tajemnik@cesles.cz
GEO:48.911471;13.886352
X-APPLE-STRUCTURED-LOCATION;VALUE=URI;X-ADDRESS=V Kasárnách 645;X-APPLE-R
 ADIUS=72;X-TITLE=Městské lesy Volary:48.911471;13.886352
END:VEVENT
END:VCALENDAR