BEGIN:VCALENDAR
VERSION:2.0
PRODID:Events Booking
BEGIN:VEVENT
UID:69e77194e90b1
SUMMARY:Obnova a výchova porostů po kalamitách na severní Moravě II.
DESCRIPTION:Jako každé jiné území se i severní Morava historicky pot
 ýkala s kalamitami\, ať je zapříčinily biotické nebo abiotické vliv
 y. Dnes ovšem se oblast severní Moravy potýká s největší kalamitou\
 , která kdy tuto oblast zasáhla. Smrkové porosty stresované klimatick
 ými změnami (vyšší teplotou a nedostatkem srážek) nedokáží odola
 t náporu biotických i abiotických vlivů\, jako jsou lýkožrouti\, vá
 clavka nebo silný vítr. Díky tomu v oblasti severní Moravy smrkové po
 rosty odumírají neuvěřitelným tempem a na rozsáhlém území. S tím
  je pojen vznik velkého množství kalamitních holin\, které mají v n
 ěkterých případech velikost i několik desítek hektarů. Takto velké
  plochy mají absolutně jiné mikroklima\, které se nepodobá ničemu\, 
 co se nachází na území České republiky. V současné době je nejdů
 ležitější všechny kalamitní holiny\, co nejrychleji zalesnit. Ovšem
  při zalesňování takto velkých kalamitních ploch se musí počítat 
 dalšími vlivy\, které ovlivňují úspěšnost zalesnění\, jako jsou 
 v letním období vysoké teploty na povrchu půdy na kalamitních plochá
 ch\, vliv zvěře a v neposlední řadě kvalitní sadební materiál. Dů
 ležitou součástí obnovy kalamitních ploch je  i tvorba různých por
 ostních směsí\, které by v budoucnu měli zajišťovat stabilitu nově
  obnovovaných porostů a odolnost vůči působení různých negativníc
 h vlivů.
 V letošním roce proběhne druhý seminář zaměřený na pr
 oblematiku obnovy kalamitních ploch v oblasti severní Moravy. A to prohl
 ídkou kalamitních ploch\, které vznikly z minulých kalamit a již se b
 líží do doby probírek\, až po nově vzniklé kalamitní plochy způso
 bené odumírání smrkových porostů na severní Moravě. A to vše na m
 ajetku VLS ČR\, s.p. divize Lipník nad Bečvou.
DTSTART:20180626T070000Z
DTEND:20180626T133000Z
DTSTAMP:20260421T144612Z
ORGANIZER;CN=ČESLES:MAILTO:tajemnik@cesles.cz
END:VEVENT
END:VCALENDAR