BEGIN:VCALENDAR
VERSION:2.0
PRODID:Events Booking
BEGIN:VEVENT
UID:69e772231d651
SUMMARY:Multifunkční hospodaření v lesích Doupovských hor se specific
 kým režimem vojenského využití
DESCRIPTION:Lesní hospodářství Doupovských hor je v rámci České rep
 ubliky unikátní. Převážnou většinu této lesní oblasti tvoří úz
 emí využívané armádou. Současně jde o unikátní území s výrazn
 ým podílem přírodě blízkých listnatých porostů na vulkanických s
 vazích řeky Ohře. Cílem semináře formou pochůzky je ukázat konkré
 tní provozní zkušenosti\, jak skloubit činnost výcviku armády\, lesn
 ické hospodaření\, myslivost i výraznou podporu environmentálních fu
 nkcí lesa.
  
DTSTART:20240808T064500Z
DTEND:20240808T120000Z
DTSTAMP:20260421T144835Z
ORGANIZER;CN=ČESLES:MAILTO:tajemnik@cesles.cz
END:VEVENT
END:VCALENDAR