BEGIN:VCALENDAR
VERSION:2.0
PRODID:Events Booking
BEGIN:VEVENT
UID:69e7725cde72e
SUMMARY:Hospodaření v dubových porostech Polabí s uplatněním přiroze
 né obnovy 
DESCRIPTION:Venkovní pochůzka na lesním majetku\, na kterém hospodaří
  Czerninská lesní správa Hlušice\, s.r.o. bude zaměřena na praktick
 é ukázky práce s přirozenou obnovou dubu zimního. Lesní správce s v
 yužitím přirozené obnovy obnovuje porosty dubu zimního již více jak
  30 let. Bude tedy možné vidět různé fáze rozpracování obnovy poro
 stů v delší časové řadě\, stav porostů po prvních výchovách od 
 nárostu\, přes mlaziny až první probírky. Zároveň jsou do programu 
 zařazeny i názorné ukázky věnované plošným podporám v rámci „L
 esnicko-environmentálních plateb“ prostřednictvím Strategického pl
 ánu společné zemědělské politiky. Komentář k typům plateb přisl
 íbili kompetentní pracovníci Ministerstva zemědělství.
LOCATION:Hlušice 163
DTSTART:20230530T070000Z
DTEND:20230530T121500Z
DTSTAMP:20260421T144932Z
ORGANIZER;CN=ČESLES:MAILTO:tajemnik@cesles.cz
GEO:50.262194;15.403553
X-APPLE-STRUCTURED-LOCATION;VALUE=URI;X-ADDRESS=Hlušice 163;X-APPLE-RADIUS
 =72;X-TITLE=Hlušice:50.262194;15.403553
END:VEVENT
END:VCALENDAR